BEGIN:VCALENDAR
VERSION:2.0
PRODID:-//Gladiator Paint Ball Park - ECPv6.15.20//NONSGML v1.0//EN
CALSCALE:GREGORIAN
METHOD:PUBLISH
X-WR-CALNAME:Gladiator Paint Ball Park
X-ORIGINAL-URL:https://www.gladiatorpb.com
X-WR-CALDESC:Events for Gladiator Paint Ball Park
REFRESH-INTERVAL;VALUE=DURATION:PT1H
X-Robots-Tag:noindex
X-PUBLISHED-TTL:PT1H
BEGIN:VTIMEZONE
TZID:America/Los_Angeles
BEGIN:DAYLIGHT
TZOFFSETFROM:-0800
TZOFFSETTO:-0700
TZNAME:PDT
DTSTART:20230312T100000
END:DAYLIGHT
BEGIN:STANDARD
TZOFFSETFROM:-0700
TZOFFSETTO:-0800
TZNAME:PST
DTSTART:20231105T090000
END:STANDARD
BEGIN:DAYLIGHT
TZOFFSETFROM:-0800
TZOFFSETTO:-0700
TZNAME:PDT
DTSTART:20240310T100000
END:DAYLIGHT
BEGIN:STANDARD
TZOFFSETFROM:-0700
TZOFFSETTO:-0800
TZNAME:PST
DTSTART:20241103T090000
END:STANDARD
BEGIN:DAYLIGHT
TZOFFSETFROM:-0800
TZOFFSETTO:-0700
TZNAME:PDT
DTSTART:20250309T100000
END:DAYLIGHT
BEGIN:STANDARD
TZOFFSETFROM:-0700
TZOFFSETTO:-0800
TZNAME:PST
DTSTART:20251102T090000
END:STANDARD
END:VTIMEZONE
BEGIN:VEVENT
DTSTART;TZID=America/Los_Angeles:20241005T090000
DTEND;TZID=America/Los_Angeles:20241005T170000
DTSTAMP:20260421T173350
CREATED:20230823T190724Z
LAST-MODIFIED:20230823T193905Z
UID:10001419-1728118800-1728147600@www.gladiatorpb.com
SUMMARY:Gladiator Park Hours
DESCRIPTION:Our normal weekend operating hours. We are the Central Coast’s premier Paintball Park. 10 acres and 8 completely supervised fields. Come join us for Paintball\, Gellyball\, Airsoft\, Nerf\, Axe Throwing and more!
URL:https://www.gladiatorpb.com/event/gladiator-park-hours-2/2024-10-05/
CATEGORIES:Airsoft,Axe Throwing,Gelly Ball,Nerf,Paintball,Paintball Lite
ATTACH;FMTTYPE=image/jpeg:https://www.gladiatorpb.com/wp-content/uploads/2021/02/parkhoursThumbnail.jpg
END:VEVENT
BEGIN:VEVENT
DTSTART;TZID=America/Los_Angeles:20240929T090000
DTEND;TZID=America/Los_Angeles:20240929T170000
DTSTAMP:20260421T173350
CREATED:20230823T191116Z
LAST-MODIFIED:20230823T194127Z
UID:10001940-1727600400-1727629200@www.gladiatorpb.com
SUMMARY:Gladiator Park Hours
DESCRIPTION:Our normal weekend operating hours. We are the Central Coast’s premier Paintball Park. 10 acres and 8 completely supervised fields. Come join us for Paintball\, Gellyball\, Airsoft\, Nerf\, Axe Throwing and more!
URL:https://www.gladiatorpb.com/event/gladiator-park-hours-3/2024-09-29/
CATEGORIES:Airsoft,Axe Throwing,Gelly Ball,Nerf,Paintball,Paintball Lite
ATTACH;FMTTYPE=image/jpeg:https://www.gladiatorpb.com/wp-content/uploads/2021/02/parkhoursThumbnail.jpg
END:VEVENT
BEGIN:VEVENT
DTSTART;TZID=America/Los_Angeles:20240928T090000
DTEND;TZID=America/Los_Angeles:20240928T170000
DTSTAMP:20260421T173350
CREATED:20230823T190724Z
LAST-MODIFIED:20230823T193905Z
UID:10001418-1727514000-1727542800@www.gladiatorpb.com
SUMMARY:Gladiator Park Hours
DESCRIPTION:Our normal weekend operating hours. We are the Central Coast’s premier Paintball Park. 10 acres and 8 completely supervised fields. Come join us for Paintball\, Gellyball\, Airsoft\, Nerf\, Axe Throwing and more!
URL:https://www.gladiatorpb.com/event/gladiator-park-hours-2/2024-09-28/
CATEGORIES:Airsoft,Axe Throwing,Gelly Ball,Nerf,Paintball,Paintball Lite
ATTACH;FMTTYPE=image/jpeg:https://www.gladiatorpb.com/wp-content/uploads/2021/02/parkhoursThumbnail.jpg
END:VEVENT
BEGIN:VEVENT
DTSTART;TZID=America/Los_Angeles:20240922T090000
DTEND;TZID=America/Los_Angeles:20240922T170000
DTSTAMP:20260421T173350
CREATED:20230823T191116Z
LAST-MODIFIED:20230823T194127Z
UID:10001939-1726995600-1727024400@www.gladiatorpb.com
SUMMARY:Gladiator Park Hours
DESCRIPTION:Our normal weekend operating hours. We are the Central Coast’s premier Paintball Park. 10 acres and 8 completely supervised fields. Come join us for Paintball\, Gellyball\, Airsoft\, Nerf\, Axe Throwing and more!
URL:https://www.gladiatorpb.com/event/gladiator-park-hours-3/2024-09-22/
CATEGORIES:Airsoft,Axe Throwing,Gelly Ball,Nerf,Paintball,Paintball Lite
ATTACH;FMTTYPE=image/jpeg:https://www.gladiatorpb.com/wp-content/uploads/2021/02/parkhoursThumbnail.jpg
END:VEVENT
BEGIN:VEVENT
DTSTART;TZID=America/Los_Angeles:20240921T090000
DTEND;TZID=America/Los_Angeles:20240921T170000
DTSTAMP:20260421T173350
CREATED:20230823T190724Z
LAST-MODIFIED:20230823T193905Z
UID:10001417-1726909200-1726938000@www.gladiatorpb.com
SUMMARY:Gladiator Park Hours
DESCRIPTION:Our normal weekend operating hours. We are the Central Coast’s premier Paintball Park. 10 acres and 8 completely supervised fields. Come join us for Paintball\, Gellyball\, Airsoft\, Nerf\, Axe Throwing and more!
URL:https://www.gladiatorpb.com/event/gladiator-park-hours-2/2024-09-21/
CATEGORIES:Airsoft,Axe Throwing,Gelly Ball,Nerf,Paintball,Paintball Lite
ATTACH;FMTTYPE=image/jpeg:https://www.gladiatorpb.com/wp-content/uploads/2021/02/parkhoursThumbnail.jpg
END:VEVENT
BEGIN:VEVENT
DTSTART;TZID=America/Los_Angeles:20240915T090000
DTEND;TZID=America/Los_Angeles:20240915T170000
DTSTAMP:20260421T173350
CREATED:20230823T191116Z
LAST-MODIFIED:20230823T194127Z
UID:10001938-1726390800-1726419600@www.gladiatorpb.com
SUMMARY:Gladiator Park Hours
DESCRIPTION:Our normal weekend operating hours. We are the Central Coast’s premier Paintball Park. 10 acres and 8 completely supervised fields. Come join us for Paintball\, Gellyball\, Airsoft\, Nerf\, Axe Throwing and more!
URL:https://www.gladiatorpb.com/event/gladiator-park-hours-3/2024-09-15/
CATEGORIES:Airsoft,Axe Throwing,Gelly Ball,Nerf,Paintball,Paintball Lite
ATTACH;FMTTYPE=image/jpeg:https://www.gladiatorpb.com/wp-content/uploads/2021/02/parkhoursThumbnail.jpg
END:VEVENT
BEGIN:VEVENT
DTSTART;TZID=America/Los_Angeles:20240914T090000
DTEND;TZID=America/Los_Angeles:20240914T170000
DTSTAMP:20260421T173350
CREATED:20230823T190724Z
LAST-MODIFIED:20230823T193905Z
UID:10001416-1726304400-1726333200@www.gladiatorpb.com
SUMMARY:Gladiator Park Hours
DESCRIPTION:Our normal weekend operating hours. We are the Central Coast’s premier Paintball Park. 10 acres and 8 completely supervised fields. Come join us for Paintball\, Gellyball\, Airsoft\, Nerf\, Axe Throwing and more!
URL:https://www.gladiatorpb.com/event/gladiator-park-hours-2/2024-09-14/
CATEGORIES:Airsoft,Axe Throwing,Gelly Ball,Nerf,Paintball,Paintball Lite
ATTACH;FMTTYPE=image/jpeg:https://www.gladiatorpb.com/wp-content/uploads/2021/02/parkhoursThumbnail.jpg
END:VEVENT
BEGIN:VEVENT
DTSTART;TZID=America/Los_Angeles:20240908T090000
DTEND;TZID=America/Los_Angeles:20240908T170000
DTSTAMP:20260421T173350
CREATED:20230823T191116Z
LAST-MODIFIED:20230823T194127Z
UID:10001937-1725786000-1725814800@www.gladiatorpb.com
SUMMARY:Gladiator Park Hours
DESCRIPTION:Our normal weekend operating hours. We are the Central Coast’s premier Paintball Park. 10 acres and 8 completely supervised fields. Come join us for Paintball\, Gellyball\, Airsoft\, Nerf\, Axe Throwing and more!
URL:https://www.gladiatorpb.com/event/gladiator-park-hours-3/2024-09-08/
CATEGORIES:Airsoft,Axe Throwing,Gelly Ball,Nerf,Paintball,Paintball Lite
ATTACH;FMTTYPE=image/jpeg:https://www.gladiatorpb.com/wp-content/uploads/2021/02/parkhoursThumbnail.jpg
END:VEVENT
BEGIN:VEVENT
DTSTART;TZID=America/Los_Angeles:20240907T090000
DTEND;TZID=America/Los_Angeles:20240907T170000
DTSTAMP:20260421T173350
CREATED:20230823T190724Z
LAST-MODIFIED:20230823T193905Z
UID:10001415-1725699600-1725728400@www.gladiatorpb.com
SUMMARY:Gladiator Park Hours
DESCRIPTION:Our normal weekend operating hours. We are the Central Coast’s premier Paintball Park. 10 acres and 8 completely supervised fields. Come join us for Paintball\, Gellyball\, Airsoft\, Nerf\, Axe Throwing and more!
URL:https://www.gladiatorpb.com/event/gladiator-park-hours-2/2024-09-07/
CATEGORIES:Airsoft,Axe Throwing,Gelly Ball,Nerf,Paintball,Paintball Lite
ATTACH;FMTTYPE=image/jpeg:https://www.gladiatorpb.com/wp-content/uploads/2021/02/parkhoursThumbnail.jpg
END:VEVENT
BEGIN:VEVENT
DTSTART;TZID=America/Los_Angeles:20240901T090000
DTEND;TZID=America/Los_Angeles:20240901T170000
DTSTAMP:20260421T173350
CREATED:20230823T191116Z
LAST-MODIFIED:20230823T194127Z
UID:10001936-1725181200-1725210000@www.gladiatorpb.com
SUMMARY:Gladiator Park Hours
DESCRIPTION:Our normal weekend operating hours. We are the Central Coast’s premier Paintball Park. 10 acres and 8 completely supervised fields. Come join us for Paintball\, Gellyball\, Airsoft\, Nerf\, Axe Throwing and more!
URL:https://www.gladiatorpb.com/event/gladiator-park-hours-3/2024-09-01/
CATEGORIES:Airsoft,Axe Throwing,Gelly Ball,Nerf,Paintball,Paintball Lite
ATTACH;FMTTYPE=image/jpeg:https://www.gladiatorpb.com/wp-content/uploads/2021/02/parkhoursThumbnail.jpg
END:VEVENT
BEGIN:VEVENT
DTSTART;TZID=America/Los_Angeles:20240831T090000
DTEND;TZID=America/Los_Angeles:20240831T170000
DTSTAMP:20260421T173350
CREATED:20230823T190724Z
LAST-MODIFIED:20230823T193905Z
UID:10001414-1725094800-1725123600@www.gladiatorpb.com
SUMMARY:Gladiator Park Hours
DESCRIPTION:Our normal weekend operating hours. We are the Central Coast’s premier Paintball Park. 10 acres and 8 completely supervised fields. Come join us for Paintball\, Gellyball\, Airsoft\, Nerf\, Axe Throwing and more!
URL:https://www.gladiatorpb.com/event/gladiator-park-hours-2/2024-08-31/
CATEGORIES:Airsoft,Axe Throwing,Gelly Ball,Nerf,Paintball,Paintball Lite
ATTACH;FMTTYPE=image/jpeg:https://www.gladiatorpb.com/wp-content/uploads/2021/02/parkhoursThumbnail.jpg
END:VEVENT
BEGIN:VEVENT
DTSTART;TZID=America/Los_Angeles:20240825T090000
DTEND;TZID=America/Los_Angeles:20240825T170000
DTSTAMP:20260421T173350
CREATED:20230823T191116Z
LAST-MODIFIED:20230823T194127Z
UID:10001935-1724576400-1724605200@www.gladiatorpb.com
SUMMARY:Gladiator Park Hours
DESCRIPTION:Our normal weekend operating hours. We are the Central Coast’s premier Paintball Park. 10 acres and 8 completely supervised fields. Come join us for Paintball\, Gellyball\, Airsoft\, Nerf\, Axe Throwing and more!
URL:https://www.gladiatorpb.com/event/gladiator-park-hours-3/2024-08-25/
CATEGORIES:Airsoft,Axe Throwing,Gelly Ball,Nerf,Paintball,Paintball Lite
ATTACH;FMTTYPE=image/jpeg:https://www.gladiatorpb.com/wp-content/uploads/2021/02/parkhoursThumbnail.jpg
END:VEVENT
BEGIN:VEVENT
DTSTART;TZID=America/Los_Angeles:20240824T090000
DTEND;TZID=America/Los_Angeles:20240824T170000
DTSTAMP:20260421T173350
CREATED:20230823T190724Z
LAST-MODIFIED:20230823T193905Z
UID:10001413-1724490000-1724518800@www.gladiatorpb.com
SUMMARY:Gladiator Park Hours
DESCRIPTION:Our normal weekend operating hours. We are the Central Coast’s premier Paintball Park. 10 acres and 8 completely supervised fields. Come join us for Paintball\, Gellyball\, Airsoft\, Nerf\, Axe Throwing and more!
URL:https://www.gladiatorpb.com/event/gladiator-park-hours-2/2024-08-24/
CATEGORIES:Airsoft,Axe Throwing,Gelly Ball,Nerf,Paintball,Paintball Lite
ATTACH;FMTTYPE=image/jpeg:https://www.gladiatorpb.com/wp-content/uploads/2021/02/parkhoursThumbnail.jpg
END:VEVENT
BEGIN:VEVENT
DTSTART;TZID=America/Los_Angeles:20240818T090000
DTEND;TZID=America/Los_Angeles:20240818T170000
DTSTAMP:20260421T173350
CREATED:20230823T191116Z
LAST-MODIFIED:20230823T194127Z
UID:10001934-1723971600-1724000400@www.gladiatorpb.com
SUMMARY:Gladiator Park Hours
DESCRIPTION:Our normal weekend operating hours. We are the Central Coast’s premier Paintball Park. 10 acres and 8 completely supervised fields. Come join us for Paintball\, Gellyball\, Airsoft\, Nerf\, Axe Throwing and more!
URL:https://www.gladiatorpb.com/event/gladiator-park-hours-3/2024-08-18/
CATEGORIES:Airsoft,Axe Throwing,Gelly Ball,Nerf,Paintball,Paintball Lite
ATTACH;FMTTYPE=image/jpeg:https://www.gladiatorpb.com/wp-content/uploads/2021/02/parkhoursThumbnail.jpg
END:VEVENT
BEGIN:VEVENT
DTSTART;TZID=America/Los_Angeles:20240817T090000
DTEND;TZID=America/Los_Angeles:20240817T170000
DTSTAMP:20260421T173350
CREATED:20230823T190724Z
LAST-MODIFIED:20230823T193905Z
UID:10001412-1723885200-1723914000@www.gladiatorpb.com
SUMMARY:Gladiator Park Hours
DESCRIPTION:Our normal weekend operating hours. We are the Central Coast’s premier Paintball Park. 10 acres and 8 completely supervised fields. Come join us for Paintball\, Gellyball\, Airsoft\, Nerf\, Axe Throwing and more!
URL:https://www.gladiatorpb.com/event/gladiator-park-hours-2/2024-08-17/
CATEGORIES:Airsoft,Axe Throwing,Gelly Ball,Nerf,Paintball,Paintball Lite
ATTACH;FMTTYPE=image/jpeg:https://www.gladiatorpb.com/wp-content/uploads/2021/02/parkhoursThumbnail.jpg
END:VEVENT
BEGIN:VEVENT
DTSTART;TZID=America/Los_Angeles:20240811T090000
DTEND;TZID=America/Los_Angeles:20240811T170000
DTSTAMP:20260421T173350
CREATED:20230823T191116Z
LAST-MODIFIED:20230823T194127Z
UID:10001933-1723366800-1723395600@www.gladiatorpb.com
SUMMARY:Gladiator Park Hours
DESCRIPTION:Our normal weekend operating hours. We are the Central Coast’s premier Paintball Park. 10 acres and 8 completely supervised fields. Come join us for Paintball\, Gellyball\, Airsoft\, Nerf\, Axe Throwing and more!
URL:https://www.gladiatorpb.com/event/gladiator-park-hours-3/2024-08-11/
CATEGORIES:Airsoft,Axe Throwing,Gelly Ball,Nerf,Paintball,Paintball Lite
ATTACH;FMTTYPE=image/jpeg:https://www.gladiatorpb.com/wp-content/uploads/2021/02/parkhoursThumbnail.jpg
END:VEVENT
BEGIN:VEVENT
DTSTART;TZID=America/Los_Angeles:20240810T090000
DTEND;TZID=America/Los_Angeles:20240810T170000
DTSTAMP:20260421T173350
CREATED:20230823T190724Z
LAST-MODIFIED:20230823T193905Z
UID:10001411-1723280400-1723309200@www.gladiatorpb.com
SUMMARY:Gladiator Park Hours
DESCRIPTION:Our normal weekend operating hours. We are the Central Coast’s premier Paintball Park. 10 acres and 8 completely supervised fields. Come join us for Paintball\, Gellyball\, Airsoft\, Nerf\, Axe Throwing and more!
URL:https://www.gladiatorpb.com/event/gladiator-park-hours-2/2024-08-10/
CATEGORIES:Airsoft,Axe Throwing,Gelly Ball,Nerf,Paintball,Paintball Lite
ATTACH;FMTTYPE=image/jpeg:https://www.gladiatorpb.com/wp-content/uploads/2021/02/parkhoursThumbnail.jpg
END:VEVENT
BEGIN:VEVENT
DTSTART;TZID=America/Los_Angeles:20240804T090000
DTEND;TZID=America/Los_Angeles:20240804T170000
DTSTAMP:20260421T173350
CREATED:20230823T191116Z
LAST-MODIFIED:20230823T194127Z
UID:10001932-1722762000-1722790800@www.gladiatorpb.com
SUMMARY:Gladiator Park Hours
DESCRIPTION:Our normal weekend operating hours. We are the Central Coast’s premier Paintball Park. 10 acres and 8 completely supervised fields. Come join us for Paintball\, Gellyball\, Airsoft\, Nerf\, Axe Throwing and more!
URL:https://www.gladiatorpb.com/event/gladiator-park-hours-3/2024-08-04/
CATEGORIES:Airsoft,Axe Throwing,Gelly Ball,Nerf,Paintball,Paintball Lite
ATTACH;FMTTYPE=image/jpeg:https://www.gladiatorpb.com/wp-content/uploads/2021/02/parkhoursThumbnail.jpg
END:VEVENT
BEGIN:VEVENT
DTSTART;TZID=America/Los_Angeles:20240803T090000
DTEND;TZID=America/Los_Angeles:20240803T170000
DTSTAMP:20260421T173350
CREATED:20230823T190724Z
LAST-MODIFIED:20230823T193905Z
UID:10001410-1722675600-1722704400@www.gladiatorpb.com
SUMMARY:Gladiator Park Hours
DESCRIPTION:Our normal weekend operating hours. We are the Central Coast’s premier Paintball Park. 10 acres and 8 completely supervised fields. Come join us for Paintball\, Gellyball\, Airsoft\, Nerf\, Axe Throwing and more!
URL:https://www.gladiatorpb.com/event/gladiator-park-hours-2/2024-08-03/
CATEGORIES:Airsoft,Axe Throwing,Gelly Ball,Nerf,Paintball,Paintball Lite
ATTACH;FMTTYPE=image/jpeg:https://www.gladiatorpb.com/wp-content/uploads/2021/02/parkhoursThumbnail.jpg
END:VEVENT
BEGIN:VEVENT
DTSTART;TZID=America/Los_Angeles:20240728T090000
DTEND;TZID=America/Los_Angeles:20240728T170000
DTSTAMP:20260421T173350
CREATED:20230823T191116Z
LAST-MODIFIED:20230823T194127Z
UID:10001931-1722157200-1722186000@www.gladiatorpb.com
SUMMARY:Gladiator Park Hours
DESCRIPTION:Our normal weekend operating hours. We are the Central Coast’s premier Paintball Park. 10 acres and 8 completely supervised fields. Come join us for Paintball\, Gellyball\, Airsoft\, Nerf\, Axe Throwing and more!
URL:https://www.gladiatorpb.com/event/gladiator-park-hours-3/2024-07-28/
CATEGORIES:Airsoft,Axe Throwing,Gelly Ball,Nerf,Paintball,Paintball Lite
ATTACH;FMTTYPE=image/jpeg:https://www.gladiatorpb.com/wp-content/uploads/2021/02/parkhoursThumbnail.jpg
END:VEVENT
BEGIN:VEVENT
DTSTART;TZID=America/Los_Angeles:20240727T090000
DTEND;TZID=America/Los_Angeles:20240727T170000
DTSTAMP:20260421T173350
CREATED:20230823T190724Z
LAST-MODIFIED:20230823T193905Z
UID:10001409-1722070800-1722099600@www.gladiatorpb.com
SUMMARY:Gladiator Park Hours
DESCRIPTION:Our normal weekend operating hours. We are the Central Coast’s premier Paintball Park. 10 acres and 8 completely supervised fields. Come join us for Paintball\, Gellyball\, Airsoft\, Nerf\, Axe Throwing and more!
URL:https://www.gladiatorpb.com/event/gladiator-park-hours-2/2024-07-27/
CATEGORIES:Airsoft,Axe Throwing,Gelly Ball,Nerf,Paintball,Paintball Lite
ATTACH;FMTTYPE=image/jpeg:https://www.gladiatorpb.com/wp-content/uploads/2021/02/parkhoursThumbnail.jpg
END:VEVENT
BEGIN:VEVENT
DTSTART;TZID=America/Los_Angeles:20240721T090000
DTEND;TZID=America/Los_Angeles:20240721T170000
DTSTAMP:20260421T173350
CREATED:20230823T191116Z
LAST-MODIFIED:20230823T194127Z
UID:10001930-1721552400-1721581200@www.gladiatorpb.com
SUMMARY:Gladiator Park Hours
DESCRIPTION:Our normal weekend operating hours. We are the Central Coast’s premier Paintball Park. 10 acres and 8 completely supervised fields. Come join us for Paintball\, Gellyball\, Airsoft\, Nerf\, Axe Throwing and more!
URL:https://www.gladiatorpb.com/event/gladiator-park-hours-3/2024-07-21/
CATEGORIES:Airsoft,Axe Throwing,Gelly Ball,Nerf,Paintball,Paintball Lite
ATTACH;FMTTYPE=image/jpeg:https://www.gladiatorpb.com/wp-content/uploads/2021/02/parkhoursThumbnail.jpg
END:VEVENT
BEGIN:VEVENT
DTSTART;TZID=America/Los_Angeles:20240720T090000
DTEND;TZID=America/Los_Angeles:20240720T170000
DTSTAMP:20260421T173350
CREATED:20230823T190724Z
LAST-MODIFIED:20230823T193905Z
UID:10001408-1721466000-1721494800@www.gladiatorpb.com
SUMMARY:Gladiator Park Hours
DESCRIPTION:Our normal weekend operating hours. We are the Central Coast’s premier Paintball Park. 10 acres and 8 completely supervised fields. Come join us for Paintball\, Gellyball\, Airsoft\, Nerf\, Axe Throwing and more!
URL:https://www.gladiatorpb.com/event/gladiator-park-hours-2/2024-07-20/
CATEGORIES:Airsoft,Axe Throwing,Gelly Ball,Nerf,Paintball,Paintball Lite
ATTACH;FMTTYPE=image/jpeg:https://www.gladiatorpb.com/wp-content/uploads/2021/02/parkhoursThumbnail.jpg
END:VEVENT
BEGIN:VEVENT
DTSTART;TZID=America/Los_Angeles:20240714T090000
DTEND;TZID=America/Los_Angeles:20240714T170000
DTSTAMP:20260421T173350
CREATED:20230823T191116Z
LAST-MODIFIED:20230823T194127Z
UID:10001929-1720947600-1720976400@www.gladiatorpb.com
SUMMARY:Gladiator Park Hours
DESCRIPTION:Our normal weekend operating hours. We are the Central Coast’s premier Paintball Park. 10 acres and 8 completely supervised fields. Come join us for Paintball\, Gellyball\, Airsoft\, Nerf\, Axe Throwing and more!
URL:https://www.gladiatorpb.com/event/gladiator-park-hours-3/2024-07-14/
CATEGORIES:Airsoft,Axe Throwing,Gelly Ball,Nerf,Paintball,Paintball Lite
ATTACH;FMTTYPE=image/jpeg:https://www.gladiatorpb.com/wp-content/uploads/2021/02/parkhoursThumbnail.jpg
END:VEVENT
BEGIN:VEVENT
DTSTART;TZID=America/Los_Angeles:20240713T090000
DTEND;TZID=America/Los_Angeles:20240713T170000
DTSTAMP:20260421T173350
CREATED:20230823T190724Z
LAST-MODIFIED:20230823T193905Z
UID:10001407-1720861200-1720890000@www.gladiatorpb.com
SUMMARY:Gladiator Park Hours
DESCRIPTION:Our normal weekend operating hours. We are the Central Coast’s premier Paintball Park. 10 acres and 8 completely supervised fields. Come join us for Paintball\, Gellyball\, Airsoft\, Nerf\, Axe Throwing and more!
URL:https://www.gladiatorpb.com/event/gladiator-park-hours-2/2024-07-13/
CATEGORIES:Airsoft,Axe Throwing,Gelly Ball,Nerf,Paintball,Paintball Lite
ATTACH;FMTTYPE=image/jpeg:https://www.gladiatorpb.com/wp-content/uploads/2021/02/parkhoursThumbnail.jpg
END:VEVENT
BEGIN:VEVENT
DTSTART;TZID=America/Los_Angeles:20240707T090000
DTEND;TZID=America/Los_Angeles:20240707T170000
DTSTAMP:20260421T173350
CREATED:20230823T191116Z
LAST-MODIFIED:20230823T194127Z
UID:10001928-1720342800-1720371600@www.gladiatorpb.com
SUMMARY:Gladiator Park Hours
DESCRIPTION:Our normal weekend operating hours. We are the Central Coast’s premier Paintball Park. 10 acres and 8 completely supervised fields. Come join us for Paintball\, Gellyball\, Airsoft\, Nerf\, Axe Throwing and more!
URL:https://www.gladiatorpb.com/event/gladiator-park-hours-3/2024-07-07/
CATEGORIES:Airsoft,Axe Throwing,Gelly Ball,Nerf,Paintball,Paintball Lite
ATTACH;FMTTYPE=image/jpeg:https://www.gladiatorpb.com/wp-content/uploads/2021/02/parkhoursThumbnail.jpg
END:VEVENT
BEGIN:VEVENT
DTSTART;TZID=America/Los_Angeles:20240706T090000
DTEND;TZID=America/Los_Angeles:20240706T170000
DTSTAMP:20260421T173350
CREATED:20230823T190724Z
LAST-MODIFIED:20230823T193905Z
UID:10001406-1720256400-1720285200@www.gladiatorpb.com
SUMMARY:Gladiator Park Hours
DESCRIPTION:Our normal weekend operating hours. We are the Central Coast’s premier Paintball Park. 10 acres and 8 completely supervised fields. Come join us for Paintball\, Gellyball\, Airsoft\, Nerf\, Axe Throwing and more!
URL:https://www.gladiatorpb.com/event/gladiator-park-hours-2/2024-07-06/
CATEGORIES:Airsoft,Axe Throwing,Gelly Ball,Nerf,Paintball,Paintball Lite
ATTACH;FMTTYPE=image/jpeg:https://www.gladiatorpb.com/wp-content/uploads/2021/02/parkhoursThumbnail.jpg
END:VEVENT
BEGIN:VEVENT
DTSTART;TZID=America/Los_Angeles:20240630T090000
DTEND;TZID=America/Los_Angeles:20240630T170000
DTSTAMP:20260421T173350
CREATED:20230823T191116Z
LAST-MODIFIED:20230823T194127Z
UID:10001927-1719738000-1719766800@www.gladiatorpb.com
SUMMARY:Gladiator Park Hours
DESCRIPTION:Our normal weekend operating hours. We are the Central Coast’s premier Paintball Park. 10 acres and 8 completely supervised fields. Come join us for Paintball\, Gellyball\, Airsoft\, Nerf\, Axe Throwing and more!
URL:https://www.gladiatorpb.com/event/gladiator-park-hours-3/2024-06-30/
CATEGORIES:Airsoft,Axe Throwing,Gelly Ball,Nerf,Paintball,Paintball Lite
ATTACH;FMTTYPE=image/jpeg:https://www.gladiatorpb.com/wp-content/uploads/2021/02/parkhoursThumbnail.jpg
END:VEVENT
BEGIN:VEVENT
DTSTART;TZID=America/Los_Angeles:20240629T090000
DTEND;TZID=America/Los_Angeles:20240629T170000
DTSTAMP:20260421T173350
CREATED:20230823T190724Z
LAST-MODIFIED:20230823T193905Z
UID:10001405-1719651600-1719680400@www.gladiatorpb.com
SUMMARY:Gladiator Park Hours
DESCRIPTION:Our normal weekend operating hours. We are the Central Coast’s premier Paintball Park. 10 acres and 8 completely supervised fields. Come join us for Paintball\, Gellyball\, Airsoft\, Nerf\, Axe Throwing and more!
URL:https://www.gladiatorpb.com/event/gladiator-park-hours-2/2024-06-29/
CATEGORIES:Airsoft,Axe Throwing,Gelly Ball,Nerf,Paintball,Paintball Lite
ATTACH;FMTTYPE=image/jpeg:https://www.gladiatorpb.com/wp-content/uploads/2021/02/parkhoursThumbnail.jpg
END:VEVENT
BEGIN:VEVENT
DTSTART;TZID=America/Los_Angeles:20240623T090000
DTEND;TZID=America/Los_Angeles:20240623T170000
DTSTAMP:20260421T173350
CREATED:20230823T191116Z
LAST-MODIFIED:20230823T194127Z
UID:10001926-1719133200-1719162000@www.gladiatorpb.com
SUMMARY:Gladiator Park Hours
DESCRIPTION:Our normal weekend operating hours. We are the Central Coast’s premier Paintball Park. 10 acres and 8 completely supervised fields. Come join us for Paintball\, Gellyball\, Airsoft\, Nerf\, Axe Throwing and more!
URL:https://www.gladiatorpb.com/event/gladiator-park-hours-3/2024-06-23/
CATEGORIES:Airsoft,Axe Throwing,Gelly Ball,Nerf,Paintball,Paintball Lite
ATTACH;FMTTYPE=image/jpeg:https://www.gladiatorpb.com/wp-content/uploads/2021/02/parkhoursThumbnail.jpg
END:VEVENT
END:VCALENDAR