BEGIN:VCALENDAR
VERSION:2.0
PRODID:-//Gladiator Paint Ball Park - ECPv6.15.20//NONSGML v1.0//EN
CALSCALE:GREGORIAN
METHOD:PUBLISH
X-ORIGINAL-URL:https://www.gladiatorpb.com
X-WR-CALDESC:Events for Gladiator Paint Ball Park
REFRESH-INTERVAL;VALUE=DURATION:PT1H
X-Robots-Tag:noindex
X-PUBLISHED-TTL:PT1H
BEGIN:VTIMEZONE
TZID:America/Los_Angeles
BEGIN:DAYLIGHT
TZOFFSETFROM:-0800
TZOFFSETTO:-0700
TZNAME:PDT
DTSTART:20230312T100000
END:DAYLIGHT
BEGIN:STANDARD
TZOFFSETFROM:-0700
TZOFFSETTO:-0800
TZNAME:PST
DTSTART:20231105T090000
END:STANDARD
BEGIN:DAYLIGHT
TZOFFSETFROM:-0800
TZOFFSETTO:-0700
TZNAME:PDT
DTSTART:20240310T100000
END:DAYLIGHT
BEGIN:STANDARD
TZOFFSETFROM:-0700
TZOFFSETTO:-0800
TZNAME:PST
DTSTART:20241103T090000
END:STANDARD
BEGIN:DAYLIGHT
TZOFFSETFROM:-0800
TZOFFSETTO:-0700
TZNAME:PDT
DTSTART:20250309T100000
END:DAYLIGHT
BEGIN:STANDARD
TZOFFSETFROM:-0700
TZOFFSETTO:-0800
TZNAME:PST
DTSTART:20251102T090000
END:STANDARD
END:VTIMEZONE
BEGIN:VEVENT
DTSTART;TZID=America/Los_Angeles:20241229T090000
DTEND;TZID=America/Los_Angeles:20241229T170000
DTSTAMP:20260421T082714
CREATED:20230823T191116Z
LAST-MODIFIED:20230823T194127Z
UID:10001953-1735462800-1735491600@www.gladiatorpb.com
SUMMARY:Gladiator Park Hours
DESCRIPTION:Our normal weekend operating hours. We are the Central Coast’s premier Paintball Park. 10 acres and 8 completely supervised fields. Come join us for Paintball\, Gellyball\, Airsoft\, Nerf\, Axe Throwing and more!
URL:https://www.gladiatorpb.com/event/gladiator-park-hours-3/2024-12-29/
CATEGORIES:Airsoft,Axe Throwing,Gelly Ball,Nerf,Paintball,Paintball Lite
ATTACH;FMTTYPE=image/jpeg:https://www.gladiatorpb.com/wp-content/uploads/2021/02/parkhoursThumbnail.jpg
END:VEVENT
BEGIN:VEVENT
DTSTART;TZID=America/Los_Angeles:20241228T090000
DTEND;TZID=America/Los_Angeles:20241228T170000
DTSTAMP:20260421T082714
CREATED:20230823T190724Z
LAST-MODIFIED:20230823T193905Z
UID:10001431-1735376400-1735405200@www.gladiatorpb.com
SUMMARY:Gladiator Park Hours
DESCRIPTION:Our normal weekend operating hours. We are the Central Coast’s premier Paintball Park. 10 acres and 8 completely supervised fields. Come join us for Paintball\, Gellyball\, Airsoft\, Nerf\, Axe Throwing and more!
URL:https://www.gladiatorpb.com/event/gladiator-park-hours-2/2024-12-28/
CATEGORIES:Airsoft,Axe Throwing,Gelly Ball,Nerf,Paintball,Paintball Lite
ATTACH;FMTTYPE=image/jpeg:https://www.gladiatorpb.com/wp-content/uploads/2021/02/parkhoursThumbnail.jpg
END:VEVENT
BEGIN:VEVENT
DTSTART;TZID=America/Los_Angeles:20241222T090000
DTEND;TZID=America/Los_Angeles:20241222T170000
DTSTAMP:20260421T082714
CREATED:20230823T191116Z
LAST-MODIFIED:20230823T194127Z
UID:10001952-1734858000-1734886800@www.gladiatorpb.com
SUMMARY:Gladiator Park Hours
DESCRIPTION:Our normal weekend operating hours. We are the Central Coast’s premier Paintball Park. 10 acres and 8 completely supervised fields. Come join us for Paintball\, Gellyball\, Airsoft\, Nerf\, Axe Throwing and more!
URL:https://www.gladiatorpb.com/event/gladiator-park-hours-3/2024-12-22/
CATEGORIES:Airsoft,Axe Throwing,Gelly Ball,Nerf,Paintball,Paintball Lite
ATTACH;FMTTYPE=image/jpeg:https://www.gladiatorpb.com/wp-content/uploads/2021/02/parkhoursThumbnail.jpg
END:VEVENT
BEGIN:VEVENT
DTSTART;TZID=America/Los_Angeles:20241221T090000
DTEND;TZID=America/Los_Angeles:20241221T170000
DTSTAMP:20260421T082714
CREATED:20230823T190724Z
LAST-MODIFIED:20230823T193905Z
UID:10001430-1734771600-1734800400@www.gladiatorpb.com
SUMMARY:Gladiator Park Hours
DESCRIPTION:Our normal weekend operating hours. We are the Central Coast’s premier Paintball Park. 10 acres and 8 completely supervised fields. Come join us for Paintball\, Gellyball\, Airsoft\, Nerf\, Axe Throwing and more!
URL:https://www.gladiatorpb.com/event/gladiator-park-hours-2/2024-12-21/
CATEGORIES:Airsoft,Axe Throwing,Gelly Ball,Nerf,Paintball,Paintball Lite
ATTACH;FMTTYPE=image/jpeg:https://www.gladiatorpb.com/wp-content/uploads/2021/02/parkhoursThumbnail.jpg
END:VEVENT
BEGIN:VEVENT
DTSTART;TZID=America/Los_Angeles:20241215T090000
DTEND;TZID=America/Los_Angeles:20241215T170000
DTSTAMP:20260421T082714
CREATED:20230823T191116Z
LAST-MODIFIED:20230823T194127Z
UID:10001951-1734253200-1734282000@www.gladiatorpb.com
SUMMARY:Gladiator Park Hours
DESCRIPTION:Our normal weekend operating hours. We are the Central Coast’s premier Paintball Park. 10 acres and 8 completely supervised fields. Come join us for Paintball\, Gellyball\, Airsoft\, Nerf\, Axe Throwing and more!
URL:https://www.gladiatorpb.com/event/gladiator-park-hours-3/2024-12-15/
CATEGORIES:Airsoft,Axe Throwing,Gelly Ball,Nerf,Paintball,Paintball Lite
ATTACH;FMTTYPE=image/jpeg:https://www.gladiatorpb.com/wp-content/uploads/2021/02/parkhoursThumbnail.jpg
END:VEVENT
BEGIN:VEVENT
DTSTART;TZID=America/Los_Angeles:20241214T090000
DTEND;TZID=America/Los_Angeles:20241214T170000
DTSTAMP:20260421T082714
CREATED:20230823T190724Z
LAST-MODIFIED:20230823T193905Z
UID:10001429-1734166800-1734195600@www.gladiatorpb.com
SUMMARY:Gladiator Park Hours
DESCRIPTION:Our normal weekend operating hours. We are the Central Coast’s premier Paintball Park. 10 acres and 8 completely supervised fields. Come join us for Paintball\, Gellyball\, Airsoft\, Nerf\, Axe Throwing and more!
URL:https://www.gladiatorpb.com/event/gladiator-park-hours-2/2024-12-14/
CATEGORIES:Airsoft,Axe Throwing,Gelly Ball,Nerf,Paintball,Paintball Lite
ATTACH;FMTTYPE=image/jpeg:https://www.gladiatorpb.com/wp-content/uploads/2021/02/parkhoursThumbnail.jpg
END:VEVENT
BEGIN:VEVENT
DTSTART;TZID=America/Los_Angeles:20241208T090000
DTEND;TZID=America/Los_Angeles:20241208T170000
DTSTAMP:20260421T082714
CREATED:20230823T191116Z
LAST-MODIFIED:20230823T194127Z
UID:10001950-1733648400-1733677200@www.gladiatorpb.com
SUMMARY:Gladiator Park Hours
DESCRIPTION:Our normal weekend operating hours. We are the Central Coast’s premier Paintball Park. 10 acres and 8 completely supervised fields. Come join us for Paintball\, Gellyball\, Airsoft\, Nerf\, Axe Throwing and more!
URL:https://www.gladiatorpb.com/event/gladiator-park-hours-3/2024-12-08/
CATEGORIES:Airsoft,Axe Throwing,Gelly Ball,Nerf,Paintball,Paintball Lite
ATTACH;FMTTYPE=image/jpeg:https://www.gladiatorpb.com/wp-content/uploads/2021/02/parkhoursThumbnail.jpg
END:VEVENT
BEGIN:VEVENT
DTSTART;TZID=America/Los_Angeles:20241207T090000
DTEND;TZID=America/Los_Angeles:20241207T170000
DTSTAMP:20260421T082714
CREATED:20230823T190724Z
LAST-MODIFIED:20230823T193905Z
UID:10001428-1733562000-1733590800@www.gladiatorpb.com
SUMMARY:Gladiator Park Hours
DESCRIPTION:Our normal weekend operating hours. We are the Central Coast’s premier Paintball Park. 10 acres and 8 completely supervised fields. Come join us for Paintball\, Gellyball\, Airsoft\, Nerf\, Axe Throwing and more!
URL:https://www.gladiatorpb.com/event/gladiator-park-hours-2/2024-12-07/
CATEGORIES:Airsoft,Axe Throwing,Gelly Ball,Nerf,Paintball,Paintball Lite
ATTACH;FMTTYPE=image/jpeg:https://www.gladiatorpb.com/wp-content/uploads/2021/02/parkhoursThumbnail.jpg
END:VEVENT
BEGIN:VEVENT
DTSTART;TZID=America/Los_Angeles:20241201T090000
DTEND;TZID=America/Los_Angeles:20241201T170000
DTSTAMP:20260421T082714
CREATED:20230823T191116Z
LAST-MODIFIED:20230823T194127Z
UID:10001949-1733043600-1733072400@www.gladiatorpb.com
SUMMARY:Gladiator Park Hours
DESCRIPTION:Our normal weekend operating hours. We are the Central Coast’s premier Paintball Park. 10 acres and 8 completely supervised fields. Come join us for Paintball\, Gellyball\, Airsoft\, Nerf\, Axe Throwing and more!
URL:https://www.gladiatorpb.com/event/gladiator-park-hours-3/2024-12-01/
CATEGORIES:Airsoft,Axe Throwing,Gelly Ball,Nerf,Paintball,Paintball Lite
ATTACH;FMTTYPE=image/jpeg:https://www.gladiatorpb.com/wp-content/uploads/2021/02/parkhoursThumbnail.jpg
END:VEVENT
BEGIN:VEVENT
DTSTART;TZID=America/Los_Angeles:20241130T090000
DTEND;TZID=America/Los_Angeles:20241130T170000
DTSTAMP:20260421T082714
CREATED:20230823T190724Z
LAST-MODIFIED:20230823T193905Z
UID:10001427-1732957200-1732986000@www.gladiatorpb.com
SUMMARY:Gladiator Park Hours
DESCRIPTION:Our normal weekend operating hours. We are the Central Coast’s premier Paintball Park. 10 acres and 8 completely supervised fields. Come join us for Paintball\, Gellyball\, Airsoft\, Nerf\, Axe Throwing and more!
URL:https://www.gladiatorpb.com/event/gladiator-park-hours-2/2024-11-30/
CATEGORIES:Airsoft,Axe Throwing,Gelly Ball,Nerf,Paintball,Paintball Lite
ATTACH;FMTTYPE=image/jpeg:https://www.gladiatorpb.com/wp-content/uploads/2021/02/parkhoursThumbnail.jpg
END:VEVENT
BEGIN:VEVENT
DTSTART;TZID=America/Los_Angeles:20241124T090000
DTEND;TZID=America/Los_Angeles:20241124T170000
DTSTAMP:20260421T082714
CREATED:20230823T191116Z
LAST-MODIFIED:20230823T194127Z
UID:10001948-1732438800-1732467600@www.gladiatorpb.com
SUMMARY:Gladiator Park Hours
DESCRIPTION:Our normal weekend operating hours. We are the Central Coast’s premier Paintball Park. 10 acres and 8 completely supervised fields. Come join us for Paintball\, Gellyball\, Airsoft\, Nerf\, Axe Throwing and more!
URL:https://www.gladiatorpb.com/event/gladiator-park-hours-3/2024-11-24/
CATEGORIES:Airsoft,Axe Throwing,Gelly Ball,Nerf,Paintball,Paintball Lite
ATTACH;FMTTYPE=image/jpeg:https://www.gladiatorpb.com/wp-content/uploads/2021/02/parkhoursThumbnail.jpg
END:VEVENT
BEGIN:VEVENT
DTSTART;TZID=America/Los_Angeles:20241123T090000
DTEND;TZID=America/Los_Angeles:20241123T170000
DTSTAMP:20260421T082714
CREATED:20230823T190724Z
LAST-MODIFIED:20230823T193905Z
UID:10001426-1732352400-1732381200@www.gladiatorpb.com
SUMMARY:Gladiator Park Hours
DESCRIPTION:Our normal weekend operating hours. We are the Central Coast’s premier Paintball Park. 10 acres and 8 completely supervised fields. Come join us for Paintball\, Gellyball\, Airsoft\, Nerf\, Axe Throwing and more!
URL:https://www.gladiatorpb.com/event/gladiator-park-hours-2/2024-11-23/
CATEGORIES:Airsoft,Axe Throwing,Gelly Ball,Nerf,Paintball,Paintball Lite
ATTACH;FMTTYPE=image/jpeg:https://www.gladiatorpb.com/wp-content/uploads/2021/02/parkhoursThumbnail.jpg
END:VEVENT
BEGIN:VEVENT
DTSTART;TZID=America/Los_Angeles:20241117T090000
DTEND;TZID=America/Los_Angeles:20241117T170000
DTSTAMP:20260421T082714
CREATED:20230823T191116Z
LAST-MODIFIED:20230823T194127Z
UID:10001947-1731834000-1731862800@www.gladiatorpb.com
SUMMARY:Gladiator Park Hours
DESCRIPTION:Our normal weekend operating hours. We are the Central Coast’s premier Paintball Park. 10 acres and 8 completely supervised fields. Come join us for Paintball\, Gellyball\, Airsoft\, Nerf\, Axe Throwing and more!
URL:https://www.gladiatorpb.com/event/gladiator-park-hours-3/2024-11-17/
CATEGORIES:Airsoft,Axe Throwing,Gelly Ball,Nerf,Paintball,Paintball Lite
ATTACH;FMTTYPE=image/jpeg:https://www.gladiatorpb.com/wp-content/uploads/2021/02/parkhoursThumbnail.jpg
END:VEVENT
BEGIN:VEVENT
DTSTART;TZID=America/Los_Angeles:20241116T090000
DTEND;TZID=America/Los_Angeles:20241116T170000
DTSTAMP:20260421T082714
CREATED:20230823T190724Z
LAST-MODIFIED:20230823T193905Z
UID:10001425-1731747600-1731776400@www.gladiatorpb.com
SUMMARY:Gladiator Park Hours
DESCRIPTION:Our normal weekend operating hours. We are the Central Coast’s premier Paintball Park. 10 acres and 8 completely supervised fields. Come join us for Paintball\, Gellyball\, Airsoft\, Nerf\, Axe Throwing and more!
URL:https://www.gladiatorpb.com/event/gladiator-park-hours-2/2024-11-16/
CATEGORIES:Airsoft,Axe Throwing,Gelly Ball,Nerf,Paintball,Paintball Lite
ATTACH;FMTTYPE=image/jpeg:https://www.gladiatorpb.com/wp-content/uploads/2021/02/parkhoursThumbnail.jpg
END:VEVENT
BEGIN:VEVENT
DTSTART;TZID=America/Los_Angeles:20241110T090000
DTEND;TZID=America/Los_Angeles:20241110T170000
DTSTAMP:20260421T082714
CREATED:20230823T191116Z
LAST-MODIFIED:20230823T194127Z
UID:10001946-1731229200-1731258000@www.gladiatorpb.com
SUMMARY:Gladiator Park Hours
DESCRIPTION:Our normal weekend operating hours. We are the Central Coast’s premier Paintball Park. 10 acres and 8 completely supervised fields. Come join us for Paintball\, Gellyball\, Airsoft\, Nerf\, Axe Throwing and more!
URL:https://www.gladiatorpb.com/event/gladiator-park-hours-3/2024-11-10/
CATEGORIES:Airsoft,Axe Throwing,Gelly Ball,Nerf,Paintball,Paintball Lite
ATTACH;FMTTYPE=image/jpeg:https://www.gladiatorpb.com/wp-content/uploads/2021/02/parkhoursThumbnail.jpg
END:VEVENT
BEGIN:VEVENT
DTSTART;TZID=America/Los_Angeles:20241109T090000
DTEND;TZID=America/Los_Angeles:20241109T170000
DTSTAMP:20260421T082714
CREATED:20230823T190724Z
LAST-MODIFIED:20230823T193905Z
UID:10001424-1731142800-1731171600@www.gladiatorpb.com
SUMMARY:Gladiator Park Hours
DESCRIPTION:Our normal weekend operating hours. We are the Central Coast’s premier Paintball Park. 10 acres and 8 completely supervised fields. Come join us for Paintball\, Gellyball\, Airsoft\, Nerf\, Axe Throwing and more!
URL:https://www.gladiatorpb.com/event/gladiator-park-hours-2/2024-11-09/
CATEGORIES:Airsoft,Axe Throwing,Gelly Ball,Nerf,Paintball,Paintball Lite
ATTACH;FMTTYPE=image/jpeg:https://www.gladiatorpb.com/wp-content/uploads/2021/02/parkhoursThumbnail.jpg
END:VEVENT
BEGIN:VEVENT
DTSTART;TZID=America/Los_Angeles:20241103T090000
DTEND;TZID=America/Los_Angeles:20241103T170000
DTSTAMP:20260421T082714
CREATED:20230823T191116Z
LAST-MODIFIED:20230823T194127Z
UID:10001945-1730624400-1730653200@www.gladiatorpb.com
SUMMARY:Gladiator Park Hours
DESCRIPTION:Our normal weekend operating hours. We are the Central Coast’s premier Paintball Park. 10 acres and 8 completely supervised fields. Come join us for Paintball\, Gellyball\, Airsoft\, Nerf\, Axe Throwing and more!
URL:https://www.gladiatorpb.com/event/gladiator-park-hours-3/2024-11-03/
CATEGORIES:Airsoft,Axe Throwing,Gelly Ball,Nerf,Paintball,Paintball Lite
ATTACH;FMTTYPE=image/jpeg:https://www.gladiatorpb.com/wp-content/uploads/2021/02/parkhoursThumbnail.jpg
END:VEVENT
BEGIN:VEVENT
DTSTART;TZID=America/Los_Angeles:20241102T090000
DTEND;TZID=America/Los_Angeles:20241102T170000
DTSTAMP:20260421T082714
CREATED:20230823T190724Z
LAST-MODIFIED:20230823T193905Z
UID:10001423-1730538000-1730566800@www.gladiatorpb.com
SUMMARY:Gladiator Park Hours
DESCRIPTION:Our normal weekend operating hours. We are the Central Coast’s premier Paintball Park. 10 acres and 8 completely supervised fields. Come join us for Paintball\, Gellyball\, Airsoft\, Nerf\, Axe Throwing and more!
URL:https://www.gladiatorpb.com/event/gladiator-park-hours-2/2024-11-02/
CATEGORIES:Airsoft,Axe Throwing,Gelly Ball,Nerf,Paintball,Paintball Lite
ATTACH;FMTTYPE=image/jpeg:https://www.gladiatorpb.com/wp-content/uploads/2021/02/parkhoursThumbnail.jpg
END:VEVENT
BEGIN:VEVENT
DTSTART;TZID=America/Los_Angeles:20241027T090000
DTEND;TZID=America/Los_Angeles:20241027T170000
DTSTAMP:20260421T082714
CREATED:20230823T191116Z
LAST-MODIFIED:20230823T194127Z
UID:10001944-1730019600-1730048400@www.gladiatorpb.com
SUMMARY:Gladiator Park Hours
DESCRIPTION:Our normal weekend operating hours. We are the Central Coast’s premier Paintball Park. 10 acres and 8 completely supervised fields. Come join us for Paintball\, Gellyball\, Airsoft\, Nerf\, Axe Throwing and more!
URL:https://www.gladiatorpb.com/event/gladiator-park-hours-3/2024-10-27/
CATEGORIES:Airsoft,Axe Throwing,Gelly Ball,Nerf,Paintball,Paintball Lite
ATTACH;FMTTYPE=image/jpeg:https://www.gladiatorpb.com/wp-content/uploads/2021/02/parkhoursThumbnail.jpg
END:VEVENT
BEGIN:VEVENT
DTSTART;TZID=America/Los_Angeles:20241026T090000
DTEND;TZID=America/Los_Angeles:20241026T170000
DTSTAMP:20260421T082714
CREATED:20230823T190724Z
LAST-MODIFIED:20230823T193905Z
UID:10001422-1729933200-1729962000@www.gladiatorpb.com
SUMMARY:Gladiator Park Hours
DESCRIPTION:Our normal weekend operating hours. We are the Central Coast’s premier Paintball Park. 10 acres and 8 completely supervised fields. Come join us for Paintball\, Gellyball\, Airsoft\, Nerf\, Axe Throwing and more!
URL:https://www.gladiatorpb.com/event/gladiator-park-hours-2/2024-10-26/
CATEGORIES:Airsoft,Axe Throwing,Gelly Ball,Nerf,Paintball,Paintball Lite
ATTACH;FMTTYPE=image/jpeg:https://www.gladiatorpb.com/wp-content/uploads/2021/02/parkhoursThumbnail.jpg
END:VEVENT
BEGIN:VEVENT
DTSTART;TZID=America/Los_Angeles:20241020T090000
DTEND;TZID=America/Los_Angeles:20241020T170000
DTSTAMP:20260421T082714
CREATED:20230823T191116Z
LAST-MODIFIED:20230823T194127Z
UID:10001943-1729414800-1729443600@www.gladiatorpb.com
SUMMARY:Gladiator Park Hours
DESCRIPTION:Our normal weekend operating hours. We are the Central Coast’s premier Paintball Park. 10 acres and 8 completely supervised fields. Come join us for Paintball\, Gellyball\, Airsoft\, Nerf\, Axe Throwing and more!
URL:https://www.gladiatorpb.com/event/gladiator-park-hours-3/2024-10-20/
CATEGORIES:Airsoft,Axe Throwing,Gelly Ball,Nerf,Paintball,Paintball Lite
ATTACH;FMTTYPE=image/jpeg:https://www.gladiatorpb.com/wp-content/uploads/2021/02/parkhoursThumbnail.jpg
END:VEVENT
BEGIN:VEVENT
DTSTART;TZID=America/Los_Angeles:20241019T090000
DTEND;TZID=America/Los_Angeles:20241019T170000
DTSTAMP:20260421T082714
CREATED:20230823T190724Z
LAST-MODIFIED:20230823T193905Z
UID:10001421-1729328400-1729357200@www.gladiatorpb.com
SUMMARY:Gladiator Park Hours
DESCRIPTION:Our normal weekend operating hours. We are the Central Coast’s premier Paintball Park. 10 acres and 8 completely supervised fields. Come join us for Paintball\, Gellyball\, Airsoft\, Nerf\, Axe Throwing and more!
URL:https://www.gladiatorpb.com/event/gladiator-park-hours-2/2024-10-19/
CATEGORIES:Airsoft,Axe Throwing,Gelly Ball,Nerf,Paintball,Paintball Lite
ATTACH;FMTTYPE=image/jpeg:https://www.gladiatorpb.com/wp-content/uploads/2021/02/parkhoursThumbnail.jpg
END:VEVENT
BEGIN:VEVENT
DTSTART;TZID=America/Los_Angeles:20241013T090000
DTEND;TZID=America/Los_Angeles:20241013T170000
DTSTAMP:20260421T082714
CREATED:20230823T191116Z
LAST-MODIFIED:20230823T194127Z
UID:10001942-1728810000-1728838800@www.gladiatorpb.com
SUMMARY:Gladiator Park Hours
DESCRIPTION:Our normal weekend operating hours. We are the Central Coast’s premier Paintball Park. 10 acres and 8 completely supervised fields. Come join us for Paintball\, Gellyball\, Airsoft\, Nerf\, Axe Throwing and more!
URL:https://www.gladiatorpb.com/event/gladiator-park-hours-3/2024-10-13/
CATEGORIES:Airsoft,Axe Throwing,Gelly Ball,Nerf,Paintball,Paintball Lite
ATTACH;FMTTYPE=image/jpeg:https://www.gladiatorpb.com/wp-content/uploads/2021/02/parkhoursThumbnail.jpg
END:VEVENT
BEGIN:VEVENT
DTSTART;TZID=America/Los_Angeles:20241012T090000
DTEND;TZID=America/Los_Angeles:20241012T170000
DTSTAMP:20260421T082714
CREATED:20230823T190724Z
LAST-MODIFIED:20230823T193905Z
UID:10001420-1728723600-1728752400@www.gladiatorpb.com
SUMMARY:Gladiator Park Hours
DESCRIPTION:Our normal weekend operating hours. We are the Central Coast’s premier Paintball Park. 10 acres and 8 completely supervised fields. Come join us for Paintball\, Gellyball\, Airsoft\, Nerf\, Axe Throwing and more!
URL:https://www.gladiatorpb.com/event/gladiator-park-hours-2/2024-10-12/
CATEGORIES:Airsoft,Axe Throwing,Gelly Ball,Nerf,Paintball,Paintball Lite
ATTACH;FMTTYPE=image/jpeg:https://www.gladiatorpb.com/wp-content/uploads/2021/02/parkhoursThumbnail.jpg
END:VEVENT
BEGIN:VEVENT
DTSTART;TZID=America/Los_Angeles:20241006T090000
DTEND;TZID=America/Los_Angeles:20241006T170000
DTSTAMP:20260421T082714
CREATED:20230823T191116Z
LAST-MODIFIED:20230823T194127Z
UID:10001941-1728205200-1728234000@www.gladiatorpb.com
SUMMARY:Gladiator Park Hours
DESCRIPTION:Our normal weekend operating hours. We are the Central Coast’s premier Paintball Park. 10 acres and 8 completely supervised fields. Come join us for Paintball\, Gellyball\, Airsoft\, Nerf\, Axe Throwing and more!
URL:https://www.gladiatorpb.com/event/gladiator-park-hours-3/2024-10-06/
CATEGORIES:Airsoft,Axe Throwing,Gelly Ball,Nerf,Paintball,Paintball Lite
ATTACH;FMTTYPE=image/jpeg:https://www.gladiatorpb.com/wp-content/uploads/2021/02/parkhoursThumbnail.jpg
END:VEVENT
BEGIN:VEVENT
DTSTART;TZID=America/Los_Angeles:20241005T090000
DTEND;TZID=America/Los_Angeles:20241005T170000
DTSTAMP:20260421T082714
CREATED:20230823T190724Z
LAST-MODIFIED:20230823T193905Z
UID:10001419-1728118800-1728147600@www.gladiatorpb.com
SUMMARY:Gladiator Park Hours
DESCRIPTION:Our normal weekend operating hours. We are the Central Coast’s premier Paintball Park. 10 acres and 8 completely supervised fields. Come join us for Paintball\, Gellyball\, Airsoft\, Nerf\, Axe Throwing and more!
URL:https://www.gladiatorpb.com/event/gladiator-park-hours-2/2024-10-05/
CATEGORIES:Airsoft,Axe Throwing,Gelly Ball,Nerf,Paintball,Paintball Lite
ATTACH;FMTTYPE=image/jpeg:https://www.gladiatorpb.com/wp-content/uploads/2021/02/parkhoursThumbnail.jpg
END:VEVENT
BEGIN:VEVENT
DTSTART;TZID=America/Los_Angeles:20240929T090000
DTEND;TZID=America/Los_Angeles:20240929T170000
DTSTAMP:20260421T082714
CREATED:20230823T191116Z
LAST-MODIFIED:20230823T194127Z
UID:10001940-1727600400-1727629200@www.gladiatorpb.com
SUMMARY:Gladiator Park Hours
DESCRIPTION:Our normal weekend operating hours. We are the Central Coast’s premier Paintball Park. 10 acres and 8 completely supervised fields. Come join us for Paintball\, Gellyball\, Airsoft\, Nerf\, Axe Throwing and more!
URL:https://www.gladiatorpb.com/event/gladiator-park-hours-3/2024-09-29/
CATEGORIES:Airsoft,Axe Throwing,Gelly Ball,Nerf,Paintball,Paintball Lite
ATTACH;FMTTYPE=image/jpeg:https://www.gladiatorpb.com/wp-content/uploads/2021/02/parkhoursThumbnail.jpg
END:VEVENT
BEGIN:VEVENT
DTSTART;TZID=America/Los_Angeles:20240928T090000
DTEND;TZID=America/Los_Angeles:20240928T170000
DTSTAMP:20260421T082714
CREATED:20230823T190724Z
LAST-MODIFIED:20230823T193905Z
UID:10001418-1727514000-1727542800@www.gladiatorpb.com
SUMMARY:Gladiator Park Hours
DESCRIPTION:Our normal weekend operating hours. We are the Central Coast’s premier Paintball Park. 10 acres and 8 completely supervised fields. Come join us for Paintball\, Gellyball\, Airsoft\, Nerf\, Axe Throwing and more!
URL:https://www.gladiatorpb.com/event/gladiator-park-hours-2/2024-09-28/
CATEGORIES:Airsoft,Axe Throwing,Gelly Ball,Nerf,Paintball,Paintball Lite
ATTACH;FMTTYPE=image/jpeg:https://www.gladiatorpb.com/wp-content/uploads/2021/02/parkhoursThumbnail.jpg
END:VEVENT
BEGIN:VEVENT
DTSTART;TZID=America/Los_Angeles:20240922T090000
DTEND;TZID=America/Los_Angeles:20240922T170000
DTSTAMP:20260421T082714
CREATED:20230823T191116Z
LAST-MODIFIED:20230823T194127Z
UID:10001939-1726995600-1727024400@www.gladiatorpb.com
SUMMARY:Gladiator Park Hours
DESCRIPTION:Our normal weekend operating hours. We are the Central Coast’s premier Paintball Park. 10 acres and 8 completely supervised fields. Come join us for Paintball\, Gellyball\, Airsoft\, Nerf\, Axe Throwing and more!
URL:https://www.gladiatorpb.com/event/gladiator-park-hours-3/2024-09-22/
CATEGORIES:Airsoft,Axe Throwing,Gelly Ball,Nerf,Paintball,Paintball Lite
ATTACH;FMTTYPE=image/jpeg:https://www.gladiatorpb.com/wp-content/uploads/2021/02/parkhoursThumbnail.jpg
END:VEVENT
BEGIN:VEVENT
DTSTART;TZID=America/Los_Angeles:20240921T090000
DTEND;TZID=America/Los_Angeles:20240921T170000
DTSTAMP:20260421T082714
CREATED:20230823T190724Z
LAST-MODIFIED:20230823T193905Z
UID:10001417-1726909200-1726938000@www.gladiatorpb.com
SUMMARY:Gladiator Park Hours
DESCRIPTION:Our normal weekend operating hours. We are the Central Coast’s premier Paintball Park. 10 acres and 8 completely supervised fields. Come join us for Paintball\, Gellyball\, Airsoft\, Nerf\, Axe Throwing and more!
URL:https://www.gladiatorpb.com/event/gladiator-park-hours-2/2024-09-21/
CATEGORIES:Airsoft,Axe Throwing,Gelly Ball,Nerf,Paintball,Paintball Lite
ATTACH;FMTTYPE=image/jpeg:https://www.gladiatorpb.com/wp-content/uploads/2021/02/parkhoursThumbnail.jpg
END:VEVENT
END:VCALENDAR