BEGIN:VCALENDAR
VERSION:2.0
PRODID:-//Gladiator Paint Ball Park - ECPv6.15.20//NONSGML v1.0//EN
CALSCALE:GREGORIAN
METHOD:PUBLISH
X-WR-CALNAME:Gladiator Paint Ball Park
X-ORIGINAL-URL:https://www.gladiatorpb.com
X-WR-CALDESC:Events for Gladiator Paint Ball Park
REFRESH-INTERVAL;VALUE=DURATION:PT1H
X-Robots-Tag:noindex
X-PUBLISHED-TTL:PT1H
BEGIN:VTIMEZONE
TZID:America/Los_Angeles
BEGIN:DAYLIGHT
TZOFFSETFROM:-0800
TZOFFSETTO:-0700
TZNAME:PDT
DTSTART:20260308T100000
END:DAYLIGHT
BEGIN:STANDARD
TZOFFSETFROM:-0700
TZOFFSETTO:-0800
TZNAME:PST
DTSTART:20261101T090000
END:STANDARD
BEGIN:DAYLIGHT
TZOFFSETFROM:-0800
TZOFFSETTO:-0700
TZNAME:PDT
DTSTART:20270314T100000
END:DAYLIGHT
BEGIN:STANDARD
TZOFFSETFROM:-0700
TZOFFSETTO:-0800
TZNAME:PST
DTSTART:20271107T090000
END:STANDARD
BEGIN:DAYLIGHT
TZOFFSETFROM:-0800
TZOFFSETTO:-0700
TZNAME:PDT
DTSTART:20280312T100000
END:DAYLIGHT
BEGIN:STANDARD
TZOFFSETFROM:-0700
TZOFFSETTO:-0800
TZNAME:PST
DTSTART:20281105T090000
END:STANDARD
END:VTIMEZONE
BEGIN:VEVENT
DTSTART;TZID=America/Los_Angeles:20270530T090000
DTEND;TZID=America/Los_Angeles:20270530T170000
DTSTAMP:20260421T032705
CREATED:20230823T191116Z
LAST-MODIFIED:20230823T194127Z
UID:10002079-1811667600-1811696400@www.gladiatorpb.com
SUMMARY:Gladiator Park Hours
DESCRIPTION:Our normal weekend operating hours. We are the Central Coast’s premier Paintball Park. 10 acres and 8 completely supervised fields. Come join us for Paintball\, Gellyball\, Airsoft\, Nerf\, Axe Throwing and more!
URL:https://www.gladiatorpb.com/event/gladiator-park-hours-3/2027-05-30/
CATEGORIES:Airsoft,Axe Throwing,Gelly Ball,Nerf,Paintball,Paintball Lite
ATTACH;FMTTYPE=image/jpeg:https://www.gladiatorpb.com/wp-content/uploads/2021/02/parkhoursThumbnail.jpg
END:VEVENT
BEGIN:VEVENT
DTSTART;TZID=America/Los_Angeles:20270605T090000
DTEND;TZID=America/Los_Angeles:20270605T170000
DTSTAMP:20260421T032705
CREATED:20230823T190724Z
LAST-MODIFIED:20230823T193905Z
UID:10001558-1812186000-1812214800@www.gladiatorpb.com
SUMMARY:Gladiator Park Hours
DESCRIPTION:Our normal weekend operating hours. We are the Central Coast’s premier Paintball Park. 10 acres and 8 completely supervised fields. Come join us for Paintball\, Gellyball\, Airsoft\, Nerf\, Axe Throwing and more!
URL:https://www.gladiatorpb.com/event/gladiator-park-hours-2/2027-06-05/
CATEGORIES:Airsoft,Axe Throwing,Gelly Ball,Nerf,Paintball,Paintball Lite
ATTACH;FMTTYPE=image/jpeg:https://www.gladiatorpb.com/wp-content/uploads/2021/02/parkhoursThumbnail.jpg
END:VEVENT
BEGIN:VEVENT
DTSTART;TZID=America/Los_Angeles:20270606T090000
DTEND;TZID=America/Los_Angeles:20270606T170000
DTSTAMP:20260421T032706
CREATED:20230823T191116Z
LAST-MODIFIED:20230823T194127Z
UID:10002080-1812272400-1812301200@www.gladiatorpb.com
SUMMARY:Gladiator Park Hours
DESCRIPTION:Our normal weekend operating hours. We are the Central Coast’s premier Paintball Park. 10 acres and 8 completely supervised fields. Come join us for Paintball\, Gellyball\, Airsoft\, Nerf\, Axe Throwing and more!
URL:https://www.gladiatorpb.com/event/gladiator-park-hours-3/2027-06-06/
CATEGORIES:Airsoft,Axe Throwing,Gelly Ball,Nerf,Paintball,Paintball Lite
ATTACH;FMTTYPE=image/jpeg:https://www.gladiatorpb.com/wp-content/uploads/2021/02/parkhoursThumbnail.jpg
END:VEVENT
BEGIN:VEVENT
DTSTART;TZID=America/Los_Angeles:20270612T090000
DTEND;TZID=America/Los_Angeles:20270612T170000
DTSTAMP:20260421T032706
CREATED:20230823T190724Z
LAST-MODIFIED:20230823T193905Z
UID:10001559-1812790800-1812819600@www.gladiatorpb.com
SUMMARY:Gladiator Park Hours
DESCRIPTION:Our normal weekend operating hours. We are the Central Coast’s premier Paintball Park. 10 acres and 8 completely supervised fields. Come join us for Paintball\, Gellyball\, Airsoft\, Nerf\, Axe Throwing and more!
URL:https://www.gladiatorpb.com/event/gladiator-park-hours-2/2027-06-12/
CATEGORIES:Airsoft,Axe Throwing,Gelly Ball,Nerf,Paintball,Paintball Lite
ATTACH;FMTTYPE=image/jpeg:https://www.gladiatorpb.com/wp-content/uploads/2021/02/parkhoursThumbnail.jpg
END:VEVENT
BEGIN:VEVENT
DTSTART;TZID=America/Los_Angeles:20270613T090000
DTEND;TZID=America/Los_Angeles:20270613T170000
DTSTAMP:20260421T032706
CREATED:20230823T191116Z
LAST-MODIFIED:20230823T194127Z
UID:10002081-1812877200-1812906000@www.gladiatorpb.com
SUMMARY:Gladiator Park Hours
DESCRIPTION:Our normal weekend operating hours. We are the Central Coast’s premier Paintball Park. 10 acres and 8 completely supervised fields. Come join us for Paintball\, Gellyball\, Airsoft\, Nerf\, Axe Throwing and more!
URL:https://www.gladiatorpb.com/event/gladiator-park-hours-3/2027-06-13/
CATEGORIES:Airsoft,Axe Throwing,Gelly Ball,Nerf,Paintball,Paintball Lite
ATTACH;FMTTYPE=image/jpeg:https://www.gladiatorpb.com/wp-content/uploads/2021/02/parkhoursThumbnail.jpg
END:VEVENT
BEGIN:VEVENT
DTSTART;TZID=America/Los_Angeles:20270619T090000
DTEND;TZID=America/Los_Angeles:20270619T170000
DTSTAMP:20260421T032706
CREATED:20230823T190724Z
LAST-MODIFIED:20230823T193905Z
UID:10001560-1813395600-1813424400@www.gladiatorpb.com
SUMMARY:Gladiator Park Hours
DESCRIPTION:Our normal weekend operating hours. We are the Central Coast’s premier Paintball Park. 10 acres and 8 completely supervised fields. Come join us for Paintball\, Gellyball\, Airsoft\, Nerf\, Axe Throwing and more!
URL:https://www.gladiatorpb.com/event/gladiator-park-hours-2/2027-06-19/
CATEGORIES:Airsoft,Axe Throwing,Gelly Ball,Nerf,Paintball,Paintball Lite
ATTACH;FMTTYPE=image/jpeg:https://www.gladiatorpb.com/wp-content/uploads/2021/02/parkhoursThumbnail.jpg
END:VEVENT
BEGIN:VEVENT
DTSTART;TZID=America/Los_Angeles:20270620T090000
DTEND;TZID=America/Los_Angeles:20270620T170000
DTSTAMP:20260421T032706
CREATED:20230823T191116Z
LAST-MODIFIED:20230823T194127Z
UID:10002082-1813482000-1813510800@www.gladiatorpb.com
SUMMARY:Gladiator Park Hours
DESCRIPTION:Our normal weekend operating hours. We are the Central Coast’s premier Paintball Park. 10 acres and 8 completely supervised fields. Come join us for Paintball\, Gellyball\, Airsoft\, Nerf\, Axe Throwing and more!
URL:https://www.gladiatorpb.com/event/gladiator-park-hours-3/2027-06-20/
CATEGORIES:Airsoft,Axe Throwing,Gelly Ball,Nerf,Paintball,Paintball Lite
ATTACH;FMTTYPE=image/jpeg:https://www.gladiatorpb.com/wp-content/uploads/2021/02/parkhoursThumbnail.jpg
END:VEVENT
BEGIN:VEVENT
DTSTART;TZID=America/Los_Angeles:20270626T090000
DTEND;TZID=America/Los_Angeles:20270626T170000
DTSTAMP:20260421T032706
CREATED:20230823T190724Z
LAST-MODIFIED:20230823T193905Z
UID:10001561-1814000400-1814029200@www.gladiatorpb.com
SUMMARY:Gladiator Park Hours
DESCRIPTION:Our normal weekend operating hours. We are the Central Coast’s premier Paintball Park. 10 acres and 8 completely supervised fields. Come join us for Paintball\, Gellyball\, Airsoft\, Nerf\, Axe Throwing and more!
URL:https://www.gladiatorpb.com/event/gladiator-park-hours-2/2027-06-26/
CATEGORIES:Airsoft,Axe Throwing,Gelly Ball,Nerf,Paintball,Paintball Lite
ATTACH;FMTTYPE=image/jpeg:https://www.gladiatorpb.com/wp-content/uploads/2021/02/parkhoursThumbnail.jpg
END:VEVENT
BEGIN:VEVENT
DTSTART;TZID=America/Los_Angeles:20270627T090000
DTEND;TZID=America/Los_Angeles:20270627T170000
DTSTAMP:20260421T032706
CREATED:20230823T191116Z
LAST-MODIFIED:20230823T194127Z
UID:10002083-1814086800-1814115600@www.gladiatorpb.com
SUMMARY:Gladiator Park Hours
DESCRIPTION:Our normal weekend operating hours. We are the Central Coast’s premier Paintball Park. 10 acres and 8 completely supervised fields. Come join us for Paintball\, Gellyball\, Airsoft\, Nerf\, Axe Throwing and more!
URL:https://www.gladiatorpb.com/event/gladiator-park-hours-3/2027-06-27/
CATEGORIES:Airsoft,Axe Throwing,Gelly Ball,Nerf,Paintball,Paintball Lite
ATTACH;FMTTYPE=image/jpeg:https://www.gladiatorpb.com/wp-content/uploads/2021/02/parkhoursThumbnail.jpg
END:VEVENT
BEGIN:VEVENT
DTSTART;TZID=America/Los_Angeles:20270703T090000
DTEND;TZID=America/Los_Angeles:20270703T170000
DTSTAMP:20260421T032706
CREATED:20230823T190724Z
LAST-MODIFIED:20230823T193905Z
UID:10001562-1814605200-1814634000@www.gladiatorpb.com
SUMMARY:Gladiator Park Hours
DESCRIPTION:Our normal weekend operating hours. We are the Central Coast’s premier Paintball Park. 10 acres and 8 completely supervised fields. Come join us for Paintball\, Gellyball\, Airsoft\, Nerf\, Axe Throwing and more!
URL:https://www.gladiatorpb.com/event/gladiator-park-hours-2/2027-07-03/
CATEGORIES:Airsoft,Axe Throwing,Gelly Ball,Nerf,Paintball,Paintball Lite
ATTACH;FMTTYPE=image/jpeg:https://www.gladiatorpb.com/wp-content/uploads/2021/02/parkhoursThumbnail.jpg
END:VEVENT
BEGIN:VEVENT
DTSTART;TZID=America/Los_Angeles:20270704T090000
DTEND;TZID=America/Los_Angeles:20270704T170000
DTSTAMP:20260421T032706
CREATED:20230823T191116Z
LAST-MODIFIED:20230823T194127Z
UID:10002084-1814691600-1814720400@www.gladiatorpb.com
SUMMARY:Gladiator Park Hours
DESCRIPTION:Our normal weekend operating hours. We are the Central Coast’s premier Paintball Park. 10 acres and 8 completely supervised fields. Come join us for Paintball\, Gellyball\, Airsoft\, Nerf\, Axe Throwing and more!
URL:https://www.gladiatorpb.com/event/gladiator-park-hours-3/2027-07-04/
CATEGORIES:Airsoft,Axe Throwing,Gelly Ball,Nerf,Paintball,Paintball Lite
ATTACH;FMTTYPE=image/jpeg:https://www.gladiatorpb.com/wp-content/uploads/2021/02/parkhoursThumbnail.jpg
END:VEVENT
BEGIN:VEVENT
DTSTART;TZID=America/Los_Angeles:20270710T090000
DTEND;TZID=America/Los_Angeles:20270710T170000
DTSTAMP:20260421T032706
CREATED:20230823T190724Z
LAST-MODIFIED:20230823T193905Z
UID:10001563-1815210000-1815238800@www.gladiatorpb.com
SUMMARY:Gladiator Park Hours
DESCRIPTION:Our normal weekend operating hours. We are the Central Coast’s premier Paintball Park. 10 acres and 8 completely supervised fields. Come join us for Paintball\, Gellyball\, Airsoft\, Nerf\, Axe Throwing and more!
URL:https://www.gladiatorpb.com/event/gladiator-park-hours-2/2027-07-10/
CATEGORIES:Airsoft,Axe Throwing,Gelly Ball,Nerf,Paintball,Paintball Lite
ATTACH;FMTTYPE=image/jpeg:https://www.gladiatorpb.com/wp-content/uploads/2021/02/parkhoursThumbnail.jpg
END:VEVENT
BEGIN:VEVENT
DTSTART;TZID=America/Los_Angeles:20270711T090000
DTEND;TZID=America/Los_Angeles:20270711T170000
DTSTAMP:20260421T032706
CREATED:20230823T191116Z
LAST-MODIFIED:20230823T194127Z
UID:10002085-1815296400-1815325200@www.gladiatorpb.com
SUMMARY:Gladiator Park Hours
DESCRIPTION:Our normal weekend operating hours. We are the Central Coast’s premier Paintball Park. 10 acres and 8 completely supervised fields. Come join us for Paintball\, Gellyball\, Airsoft\, Nerf\, Axe Throwing and more!
URL:https://www.gladiatorpb.com/event/gladiator-park-hours-3/2027-07-11/
CATEGORIES:Airsoft,Axe Throwing,Gelly Ball,Nerf,Paintball,Paintball Lite
ATTACH;FMTTYPE=image/jpeg:https://www.gladiatorpb.com/wp-content/uploads/2021/02/parkhoursThumbnail.jpg
END:VEVENT
BEGIN:VEVENT
DTSTART;TZID=America/Los_Angeles:20270717T090000
DTEND;TZID=America/Los_Angeles:20270717T170000
DTSTAMP:20260421T032706
CREATED:20230823T190724Z
LAST-MODIFIED:20230823T193905Z
UID:10001564-1815814800-1815843600@www.gladiatorpb.com
SUMMARY:Gladiator Park Hours
DESCRIPTION:Our normal weekend operating hours. We are the Central Coast’s premier Paintball Park. 10 acres and 8 completely supervised fields. Come join us for Paintball\, Gellyball\, Airsoft\, Nerf\, Axe Throwing and more!
URL:https://www.gladiatorpb.com/event/gladiator-park-hours-2/2027-07-17/
CATEGORIES:Airsoft,Axe Throwing,Gelly Ball,Nerf,Paintball,Paintball Lite
ATTACH;FMTTYPE=image/jpeg:https://www.gladiatorpb.com/wp-content/uploads/2021/02/parkhoursThumbnail.jpg
END:VEVENT
BEGIN:VEVENT
DTSTART;TZID=America/Los_Angeles:20270718T090000
DTEND;TZID=America/Los_Angeles:20270718T170000
DTSTAMP:20260421T032706
CREATED:20230823T191116Z
LAST-MODIFIED:20230823T194127Z
UID:10002086-1815901200-1815930000@www.gladiatorpb.com
SUMMARY:Gladiator Park Hours
DESCRIPTION:Our normal weekend operating hours. We are the Central Coast’s premier Paintball Park. 10 acres and 8 completely supervised fields. Come join us for Paintball\, Gellyball\, Airsoft\, Nerf\, Axe Throwing and more!
URL:https://www.gladiatorpb.com/event/gladiator-park-hours-3/2027-07-18/
CATEGORIES:Airsoft,Axe Throwing,Gelly Ball,Nerf,Paintball,Paintball Lite
ATTACH;FMTTYPE=image/jpeg:https://www.gladiatorpb.com/wp-content/uploads/2021/02/parkhoursThumbnail.jpg
END:VEVENT
BEGIN:VEVENT
DTSTART;TZID=America/Los_Angeles:20270724T090000
DTEND;TZID=America/Los_Angeles:20270724T170000
DTSTAMP:20260421T032706
CREATED:20230823T190724Z
LAST-MODIFIED:20230823T193905Z
UID:10001565-1816419600-1816448400@www.gladiatorpb.com
SUMMARY:Gladiator Park Hours
DESCRIPTION:Our normal weekend operating hours. We are the Central Coast’s premier Paintball Park. 10 acres and 8 completely supervised fields. Come join us for Paintball\, Gellyball\, Airsoft\, Nerf\, Axe Throwing and more!
URL:https://www.gladiatorpb.com/event/gladiator-park-hours-2/2027-07-24/
CATEGORIES:Airsoft,Axe Throwing,Gelly Ball,Nerf,Paintball,Paintball Lite
ATTACH;FMTTYPE=image/jpeg:https://www.gladiatorpb.com/wp-content/uploads/2021/02/parkhoursThumbnail.jpg
END:VEVENT
BEGIN:VEVENT
DTSTART;TZID=America/Los_Angeles:20270725T090000
DTEND;TZID=America/Los_Angeles:20270725T170000
DTSTAMP:20260421T032706
CREATED:20230823T191116Z
LAST-MODIFIED:20230823T194127Z
UID:10002087-1816506000-1816534800@www.gladiatorpb.com
SUMMARY:Gladiator Park Hours
DESCRIPTION:Our normal weekend operating hours. We are the Central Coast’s premier Paintball Park. 10 acres and 8 completely supervised fields. Come join us for Paintball\, Gellyball\, Airsoft\, Nerf\, Axe Throwing and more!
URL:https://www.gladiatorpb.com/event/gladiator-park-hours-3/2027-07-25/
CATEGORIES:Airsoft,Axe Throwing,Gelly Ball,Nerf,Paintball,Paintball Lite
ATTACH;FMTTYPE=image/jpeg:https://www.gladiatorpb.com/wp-content/uploads/2021/02/parkhoursThumbnail.jpg
END:VEVENT
BEGIN:VEVENT
DTSTART;TZID=America/Los_Angeles:20270731T090000
DTEND;TZID=America/Los_Angeles:20270731T170000
DTSTAMP:20260421T032706
CREATED:20230823T190724Z
LAST-MODIFIED:20230823T193905Z
UID:10001566-1817024400-1817053200@www.gladiatorpb.com
SUMMARY:Gladiator Park Hours
DESCRIPTION:Our normal weekend operating hours. We are the Central Coast’s premier Paintball Park. 10 acres and 8 completely supervised fields. Come join us for Paintball\, Gellyball\, Airsoft\, Nerf\, Axe Throwing and more!
URL:https://www.gladiatorpb.com/event/gladiator-park-hours-2/2027-07-31/
CATEGORIES:Airsoft,Axe Throwing,Gelly Ball,Nerf,Paintball,Paintball Lite
ATTACH;FMTTYPE=image/jpeg:https://www.gladiatorpb.com/wp-content/uploads/2021/02/parkhoursThumbnail.jpg
END:VEVENT
BEGIN:VEVENT
DTSTART;TZID=America/Los_Angeles:20270801T090000
DTEND;TZID=America/Los_Angeles:20270801T170000
DTSTAMP:20260421T032706
CREATED:20230823T191116Z
LAST-MODIFIED:20230823T194127Z
UID:10002088-1817110800-1817139600@www.gladiatorpb.com
SUMMARY:Gladiator Park Hours
DESCRIPTION:Our normal weekend operating hours. We are the Central Coast’s premier Paintball Park. 10 acres and 8 completely supervised fields. Come join us for Paintball\, Gellyball\, Airsoft\, Nerf\, Axe Throwing and more!
URL:https://www.gladiatorpb.com/event/gladiator-park-hours-3/2027-08-01/
CATEGORIES:Airsoft,Axe Throwing,Gelly Ball,Nerf,Paintball,Paintball Lite
ATTACH;FMTTYPE=image/jpeg:https://www.gladiatorpb.com/wp-content/uploads/2021/02/parkhoursThumbnail.jpg
END:VEVENT
BEGIN:VEVENT
DTSTART;TZID=America/Los_Angeles:20270807T090000
DTEND;TZID=America/Los_Angeles:20270807T170000
DTSTAMP:20260421T032706
CREATED:20230823T190724Z
LAST-MODIFIED:20230823T193905Z
UID:10001567-1817629200-1817658000@www.gladiatorpb.com
SUMMARY:Gladiator Park Hours
DESCRIPTION:Our normal weekend operating hours. We are the Central Coast’s premier Paintball Park. 10 acres and 8 completely supervised fields. Come join us for Paintball\, Gellyball\, Airsoft\, Nerf\, Axe Throwing and more!
URL:https://www.gladiatorpb.com/event/gladiator-park-hours-2/2027-08-07/
CATEGORIES:Airsoft,Axe Throwing,Gelly Ball,Nerf,Paintball,Paintball Lite
ATTACH;FMTTYPE=image/jpeg:https://www.gladiatorpb.com/wp-content/uploads/2021/02/parkhoursThumbnail.jpg
END:VEVENT
BEGIN:VEVENT
DTSTART;TZID=America/Los_Angeles:20270808T090000
DTEND;TZID=America/Los_Angeles:20270808T170000
DTSTAMP:20260421T032706
CREATED:20230823T191116Z
LAST-MODIFIED:20230823T194127Z
UID:10002089-1817715600-1817744400@www.gladiatorpb.com
SUMMARY:Gladiator Park Hours
DESCRIPTION:Our normal weekend operating hours. We are the Central Coast’s premier Paintball Park. 10 acres and 8 completely supervised fields. Come join us for Paintball\, Gellyball\, Airsoft\, Nerf\, Axe Throwing and more!
URL:https://www.gladiatorpb.com/event/gladiator-park-hours-3/2027-08-08/
CATEGORIES:Airsoft,Axe Throwing,Gelly Ball,Nerf,Paintball,Paintball Lite
ATTACH;FMTTYPE=image/jpeg:https://www.gladiatorpb.com/wp-content/uploads/2021/02/parkhoursThumbnail.jpg
END:VEVENT
BEGIN:VEVENT
DTSTART;TZID=America/Los_Angeles:20270814T090000
DTEND;TZID=America/Los_Angeles:20270814T170000
DTSTAMP:20260421T032706
CREATED:20230823T190724Z
LAST-MODIFIED:20230823T193905Z
UID:10001568-1818234000-1818262800@www.gladiatorpb.com
SUMMARY:Gladiator Park Hours
DESCRIPTION:Our normal weekend operating hours. We are the Central Coast’s premier Paintball Park. 10 acres and 8 completely supervised fields. Come join us for Paintball\, Gellyball\, Airsoft\, Nerf\, Axe Throwing and more!
URL:https://www.gladiatorpb.com/event/gladiator-park-hours-2/2027-08-14/
CATEGORIES:Airsoft,Axe Throwing,Gelly Ball,Nerf,Paintball,Paintball Lite
ATTACH;FMTTYPE=image/jpeg:https://www.gladiatorpb.com/wp-content/uploads/2021/02/parkhoursThumbnail.jpg
END:VEVENT
BEGIN:VEVENT
DTSTART;TZID=America/Los_Angeles:20270815T090000
DTEND;TZID=America/Los_Angeles:20270815T170000
DTSTAMP:20260421T032706
CREATED:20230823T191116Z
LAST-MODIFIED:20230823T194127Z
UID:10002090-1818320400-1818349200@www.gladiatorpb.com
SUMMARY:Gladiator Park Hours
DESCRIPTION:Our normal weekend operating hours. We are the Central Coast’s premier Paintball Park. 10 acres and 8 completely supervised fields. Come join us for Paintball\, Gellyball\, Airsoft\, Nerf\, Axe Throwing and more!
URL:https://www.gladiatorpb.com/event/gladiator-park-hours-3/2027-08-15/
CATEGORIES:Airsoft,Axe Throwing,Gelly Ball,Nerf,Paintball,Paintball Lite
ATTACH;FMTTYPE=image/jpeg:https://www.gladiatorpb.com/wp-content/uploads/2021/02/parkhoursThumbnail.jpg
END:VEVENT
BEGIN:VEVENT
DTSTART;TZID=America/Los_Angeles:20270821T090000
DTEND;TZID=America/Los_Angeles:20270821T170000
DTSTAMP:20260421T032706
CREATED:20230823T190724Z
LAST-MODIFIED:20230823T193905Z
UID:10001569-1818838800-1818867600@www.gladiatorpb.com
SUMMARY:Gladiator Park Hours
DESCRIPTION:Our normal weekend operating hours. We are the Central Coast’s premier Paintball Park. 10 acres and 8 completely supervised fields. Come join us for Paintball\, Gellyball\, Airsoft\, Nerf\, Axe Throwing and more!
URL:https://www.gladiatorpb.com/event/gladiator-park-hours-2/2027-08-21/
CATEGORIES:Airsoft,Axe Throwing,Gelly Ball,Nerf,Paintball,Paintball Lite
ATTACH;FMTTYPE=image/jpeg:https://www.gladiatorpb.com/wp-content/uploads/2021/02/parkhoursThumbnail.jpg
END:VEVENT
BEGIN:VEVENT
DTSTART;TZID=America/Los_Angeles:20270822T090000
DTEND;TZID=America/Los_Angeles:20270822T170000
DTSTAMP:20260421T032706
CREATED:20230823T191116Z
LAST-MODIFIED:20230823T194127Z
UID:10002091-1818925200-1818954000@www.gladiatorpb.com
SUMMARY:Gladiator Park Hours
DESCRIPTION:Our normal weekend operating hours. We are the Central Coast’s premier Paintball Park. 10 acres and 8 completely supervised fields. Come join us for Paintball\, Gellyball\, Airsoft\, Nerf\, Axe Throwing and more!
URL:https://www.gladiatorpb.com/event/gladiator-park-hours-3/2027-08-22/
CATEGORIES:Airsoft,Axe Throwing,Gelly Ball,Nerf,Paintball,Paintball Lite
ATTACH;FMTTYPE=image/jpeg:https://www.gladiatorpb.com/wp-content/uploads/2021/02/parkhoursThumbnail.jpg
END:VEVENT
BEGIN:VEVENT
DTSTART;TZID=America/Los_Angeles:20270828T090000
DTEND;TZID=America/Los_Angeles:20270828T170000
DTSTAMP:20260421T032706
CREATED:20230823T190724Z
LAST-MODIFIED:20230823T193905Z
UID:10001570-1819443600-1819472400@www.gladiatorpb.com
SUMMARY:Gladiator Park Hours
DESCRIPTION:Our normal weekend operating hours. We are the Central Coast’s premier Paintball Park. 10 acres and 8 completely supervised fields. Come join us for Paintball\, Gellyball\, Airsoft\, Nerf\, Axe Throwing and more!
URL:https://www.gladiatorpb.com/event/gladiator-park-hours-2/2027-08-28/
CATEGORIES:Airsoft,Axe Throwing,Gelly Ball,Nerf,Paintball,Paintball Lite
ATTACH;FMTTYPE=image/jpeg:https://www.gladiatorpb.com/wp-content/uploads/2021/02/parkhoursThumbnail.jpg
END:VEVENT
BEGIN:VEVENT
DTSTART;TZID=America/Los_Angeles:20270829T090000
DTEND;TZID=America/Los_Angeles:20270829T170000
DTSTAMP:20260421T032706
CREATED:20230823T191116Z
LAST-MODIFIED:20230823T194127Z
UID:10002092-1819530000-1819558800@www.gladiatorpb.com
SUMMARY:Gladiator Park Hours
DESCRIPTION:Our normal weekend operating hours. We are the Central Coast’s premier Paintball Park. 10 acres and 8 completely supervised fields. Come join us for Paintball\, Gellyball\, Airsoft\, Nerf\, Axe Throwing and more!
URL:https://www.gladiatorpb.com/event/gladiator-park-hours-3/2027-08-29/
CATEGORIES:Airsoft,Axe Throwing,Gelly Ball,Nerf,Paintball,Paintball Lite
ATTACH;FMTTYPE=image/jpeg:https://www.gladiatorpb.com/wp-content/uploads/2021/02/parkhoursThumbnail.jpg
END:VEVENT
BEGIN:VEVENT
DTSTART;TZID=America/Los_Angeles:20270904T090000
DTEND;TZID=America/Los_Angeles:20270904T170000
DTSTAMP:20260421T032706
CREATED:20230823T190724Z
LAST-MODIFIED:20230823T193905Z
UID:10001571-1820048400-1820077200@www.gladiatorpb.com
SUMMARY:Gladiator Park Hours
DESCRIPTION:Our normal weekend operating hours. We are the Central Coast’s premier Paintball Park. 10 acres and 8 completely supervised fields. Come join us for Paintball\, Gellyball\, Airsoft\, Nerf\, Axe Throwing and more!
URL:https://www.gladiatorpb.com/event/gladiator-park-hours-2/2027-09-04/
CATEGORIES:Airsoft,Axe Throwing,Gelly Ball,Nerf,Paintball,Paintball Lite
ATTACH;FMTTYPE=image/jpeg:https://www.gladiatorpb.com/wp-content/uploads/2021/02/parkhoursThumbnail.jpg
END:VEVENT
BEGIN:VEVENT
DTSTART;TZID=America/Los_Angeles:20270905T090000
DTEND;TZID=America/Los_Angeles:20270905T170000
DTSTAMP:20260421T032706
CREATED:20230823T191116Z
LAST-MODIFIED:20230823T194127Z
UID:10002093-1820134800-1820163600@www.gladiatorpb.com
SUMMARY:Gladiator Park Hours
DESCRIPTION:Our normal weekend operating hours. We are the Central Coast’s premier Paintball Park. 10 acres and 8 completely supervised fields. Come join us for Paintball\, Gellyball\, Airsoft\, Nerf\, Axe Throwing and more!
URL:https://www.gladiatorpb.com/event/gladiator-park-hours-3/2027-09-05/
CATEGORIES:Airsoft,Axe Throwing,Gelly Ball,Nerf,Paintball,Paintball Lite
ATTACH;FMTTYPE=image/jpeg:https://www.gladiatorpb.com/wp-content/uploads/2021/02/parkhoursThumbnail.jpg
END:VEVENT
BEGIN:VEVENT
DTSTART;TZID=America/Los_Angeles:20270911T090000
DTEND;TZID=America/Los_Angeles:20270911T170000
DTSTAMP:20260421T032706
CREATED:20230823T190724Z
LAST-MODIFIED:20230823T193905Z
UID:10001572-1820653200-1820682000@www.gladiatorpb.com
SUMMARY:Gladiator Park Hours
DESCRIPTION:Our normal weekend operating hours. We are the Central Coast’s premier Paintball Park. 10 acres and 8 completely supervised fields. Come join us for Paintball\, Gellyball\, Airsoft\, Nerf\, Axe Throwing and more!
URL:https://www.gladiatorpb.com/event/gladiator-park-hours-2/2027-09-11/
CATEGORIES:Airsoft,Axe Throwing,Gelly Ball,Nerf,Paintball,Paintball Lite
ATTACH;FMTTYPE=image/jpeg:https://www.gladiatorpb.com/wp-content/uploads/2021/02/parkhoursThumbnail.jpg
END:VEVENT
END:VCALENDAR